BEGIN:VCALENDAR
VERSION:2.0
PRODID:-//Equine-Assisted Therapies of South Florida - ECPv6.7.1//NONSGML v1.0//EN
CALSCALE:GREGORIAN
METHOD:PUBLISH
X-ORIGINAL-URL:http://54.145.96.109
X-WR-CALDESC:Events for Equine-Assisted Therapies of South Florida
REFRESH-INTERVAL;VALUE=DURATION:PT1H
X-Robots-Tag:noindex
X-PUBLISHED-TTL:PT1H
BEGIN:VTIMEZONE
TZID:America/New_York
BEGIN:DAYLIGHT
TZOFFSETFROM:-0500
TZOFFSETTO:-0400
TZNAME:EDT
DTSTART:20220313T070000
END:DAYLIGHT
BEGIN:STANDARD
TZOFFSETFROM:-0400
TZOFFSETTO:-0500
TZNAME:EST
DTSTART:20221106T060000
END:STANDARD
END:VTIMEZONE
BEGIN:VEVENT
DTSTART;TZID=America/New_York:20221105T130000
DTEND;TZID=America/New_York:20221105T173000
DTSTAMP:20260419T152830
CREATED:20220705T192328Z
LAST-MODIFIED:20220705T195310Z
UID:5209-1667653200-1667669400@54.145.96.109
SUMMARY:14th Annual Horseshoe Hoedown
DESCRIPTION:The Horseshow Hoedown is our signature fundraising event held annually in November\, supporting EATSF programs. This event is held in the Vegso Family Arena on the EATSF campus and features live music\, gourmet buffet\, silent and live auctions\, and a demonstration of riding skills from some EATSF participants.
URL:http://54.145.96.109/calendar/14th-annual-horseshoe-hoedown/
LOCATION:EATSF Campus\, 3601 W Sample Rd\, Coconut Creek\, FL\, 33073
CATEGORIES:Fundraising Event
ATTACH;FMTTYPE=image/jpeg:http://54.145.96.109/wp-content/uploads/2022/07/DSC_4486-scaled.jpg
ORGANIZER;CN="David Plath":MAILTO:david@equineatsf.org
END:VEVENT
END:VCALENDAR