BEGIN:VCALENDAR
VERSION:2.0
PRODID:-//Equine-Assisted Therapies of South Florida - ECPv6.7.1//NONSGML v1.0//EN
CALSCALE:GREGORIAN
METHOD:PUBLISH
X-WR-CALNAME:Equine-Assisted Therapies of South Florida
X-ORIGINAL-URL:http://54.145.96.109
X-WR-CALDESC:Events for Equine-Assisted Therapies of South Florida
REFRESH-INTERVAL;VALUE=DURATION:PT1H
X-Robots-Tag:noindex
X-PUBLISHED-TTL:PT1H
BEGIN:VTIMEZONE
TZID:America/New_York
BEGIN:DAYLIGHT
TZOFFSETFROM:-0500
TZOFFSETTO:-0400
TZNAME:EDT
DTSTART:20240310T070000
END:DAYLIGHT
BEGIN:STANDARD
TZOFFSETFROM:-0400
TZOFFSETTO:-0500
TZNAME:EST
DTSTART:20241103T060000
END:STANDARD
END:VTIMEZONE
BEGIN:VEVENT
DTSTART;TZID=America/New_York:20240408T170000
DTEND;TZID=America/New_York:20240408T210000
DTSTAMP:20260419T222140
CREATED:20240307T212100Z
LAST-MODIFIED:20240307T212132Z
UID:6618-1712595600-1712610000@54.145.96.109
SUMMARY:"Give Back Monday" at Bona Italian Restaurant
DESCRIPTION:Come out to enjoy delicious food and support EATSF at the same time! \n“Give Back Monday” at Bona Italian Restaurant  \nMonday\, April 8\, 2024 from 5:00 p.m. until Close (9:00 p.m.) \nEATSF will receive a portion of all orders made in the restaurant\, and for pick-up.
URL:http://54.145.96.109/calendar/give-back-monday-at-bona-italian-restaurant/
LOCATION:Bona Italian Restaurant\, 2468 Wilton Drive\, Wilton Manors\, FL\, 33305\, United States
CATEGORIES:Fundraising Event
ORGANIZER;CN="Bonnie Jellison":MAILTO:bonnie@equineatsf.org
END:VEVENT
BEGIN:VEVENT
DTSTART;TZID=America/New_York:20240414T123000
DTEND;TZID=America/New_York:20240414T160000
DTSTAMP:20260419T222140
CREATED:20240124T144438Z
LAST-MODIFIED:20240210T000533Z
UID:6517-1713097800-1713110400@54.145.96.109
SUMMARY:7th Annual Day at the Races
DESCRIPTION:Cheer on your favorite horse and help support the mission of EATSF at the Day at the Races on Sunday\, April 14\, 2024 from 12:30 p.m. until 4:00 p.m. \nWhat is Day at the Races? \n\nA day at the beautiful and world-renowned racetrack at Gulfstream Park – stay for a race or two and then enjoy shopping at the mall!\n\nCome when you can\, leave when you must! \n\n\nHave your first drink on EATSF and bid on a race of your choice.\nEat as much as your heart desires at the award-winning buffet in the Ten Palms Room\nSupport your favorite member of the EATSF herd through the “Go the Distance” call!\nEnter to win a chance to head to the Winner’s Circle and have your photo taken with the winning horse of the named EATSF race. 
URL:http://54.145.96.109/calendar/7th-annual-day-at-the-races/
LOCATION:Gulfstream Park\, 901 South Federal Highway\, Hallandale Beach\, FL\, 33009\, United States
CATEGORIES:Fundraising Event
END:VEVENT
END:VCALENDAR